BEGIN:VCALENDAR
VERSION:2.0
PRODID:-//ChamberMaster//Event Calendar 2.0//EN
METHOD:PUBLISH
X-PUBLISHED-TTL:P3D
REFRESH-INTERVAL:P3D
CALSCALE:GREGORIAN
BEGIN:VEVENT
DTSTART:20260518T190000Z
DTEND:20260518T193000Z
X-MICROSOFT-CDO-ALLDAYEVENT:FALSE
SUMMARY:Ribbon Cutting: First South Farm Credit\, ACA
DESCRIPTION:Come join us for a ribbon cutting presented by Joyful Horizons\, Inc.
X-ALT-DESC;FMTTYPE=text/html:&#8203\;Come join us for a ribbon cutting presented by Joyful Horizons\, Inc.
LOCATION:1094 Commonwealth Blvd. Tupelo\, MS 38804
UID:e.2161.2295
SEQUENCE:3
DTSTAMP:20260423T003118Z
URL:https://business.cdfms.org/events/details/ribbon-cutting-first-south-farm-credit-aca-2295
END:VEVENT

END:VCALENDAR
