BEGIN:VCALENDAR
VERSION:2.0
PRODID:-//ChamberMaster//Event Calendar 2.0//EN
METHOD:PUBLISH
X-PUBLISHED-TTL:P3D
REFRESH-INTERVAL:P3D
CALSCALE:GREGORIAN
BEGIN:VEVENT
DTSTART:20160426T160000Z
DTEND:20160426T170000Z
X-MICROSOFT-CDO-ALLDAYEVENT:FALSE
SUMMARY:Ribbon Cutting: Farrell Calhoun Paints
DESCRIPTION:Please join us for a ribbon cutting to help Farrell Calhoun Paints celebrate one year in business!
X-ALT-DESC;FMTTYPE=text/html:Please join us for a ribbon cutting to help Farrell Calhoun Paints celebrate one year in business!
LOCATION:1289 N. Gloster St. Tupelo\, MS 38804
UID:e.2161.1305
SEQUENCE:3
DTSTAMP:20260424T195826Z
URL:https://business.cdfms.org/events/details/ribbon-cutting-farrell-calhoun-paints-04-26-2016-1305
END:VEVENT

END:VCALENDAR
