BEGIN:VCALENDAR
VERSION:2.0
PRODID:-//ChamberMaster//Event Calendar 2.0//EN
METHOD:PUBLISH
X-PUBLISHED-TTL:P3D
REFRESH-INTERVAL:P3D
CALSCALE:GREGORIAN
BEGIN:VEVENT
DTSTART:20150122T173000Z
DTEND:20150122T180000Z
X-MICROSOFT-CDO-ALLDAYEVENT:FALSE
SUMMARY:Ribbon Cutting: Exceed Technologies Retail Store
DESCRIPTION:Join us for Exceed Technologies' retail store grand opening and ribbon cutting. Attendees will have the opportunity to register for several door prizes.\n\nAlso\, if you don't have lunch plans\, why not stay and enjoy lunch from one of four CDF members (HoneyBaked Ham\, Ms. Ruth's Express\, Sweet Tomato Pizza Kitchen \, and Yummy Yogurt) conveniently located at Midtown Pointe?
X-ALT-DESC;FMTTYPE=text/html:Join us for Exceed Technologies&rsquo\; retail store grand opening and ribbon cutting. Attendees will have the opportunity to register for several door prizes.<br />\nAlso\, if you don&#39\;t have lunch plans\, why not stay and enjoy lunch from one of four CDF members (HoneyBaked Ham\, Ms. Ruth&#39\;s Express\, Sweet Tomato Pizza Kitchen \, and Yummy Yogurt) conveniently located at Midtown Pointe?
LOCATION:499 Gloster Creek Vlg.\, Ste. I-8
UID:e.2161.186
SEQUENCE:3
DTSTAMP:20260425T234655Z
URL:https://business.cdfms.org/events/details/ribbon-cutting-exceed-technologies-retail-store-01-22-2015-186
END:VEVENT

END:VCALENDAR
