BEGIN:VCALENDAR
VERSION:2.0
PRODID:-//ChamberMaster//Event Calendar 2.0//EN
METHOD:PUBLISH
X-PUBLISHED-TTL:P3D
REFRESH-INTERVAL:P3D
CALSCALE:GREGORIAN
BEGIN:VEVENT
DTSTART:20150120T170000Z
DTEND:20150120T180000Z
X-MICROSOFT-CDO-ALLDAYEVENT:FALSE
SUMMARY:Ribbon Cutting: Event Rentals
DESCRIPTION:Please join us for Event Rentals ribbon cutting as they celebrate the opening of their new showroom!
X-ALT-DESC;FMTTYPE=text/html:Please join us for Event Rentals ribbon cutting as they celebrate the opening of their new showroom!
LOCATION:308 Hwy 15 North Pontotoc\, MS 38863
UID:e.2161.182
SEQUENCE:3
DTSTAMP:20260426T000100Z
URL:https://business.cdfms.org/events/details/ribbon-cutting-event-rentals-01-20-2015-182
END:VEVENT

END:VCALENDAR
