BEGIN:VCALENDAR
VERSION:2.0
PRODID:-//ChamberMaster//Event Calendar 2.0//EN
METHOD:PUBLISH
X-PUBLISHED-TTL:P3D
REFRESH-INTERVAL:P3D
CALSCALE:GREGORIAN
BEGIN:VEVENT
DTSTART:20161129T160000Z
DTEND:20161129T163000Z
X-MICROSOFT-CDO-ALLDAYEVENT:FALSE
SUMMARY:Ribbon Cutting: Enterprise Rent-A-Car- Barnes Crossing
DESCRIPTION:Come join us at Enterprise Rent-A-Car for a ribbon cutting presented by Mississippi Alarm
X-ALT-DESC;FMTTYPE=text/html:<div style="text-align: center\;">Come join us at Enterprise Rent-A-Car for a ribbon cutting presented by Mississippi Alarm<br />\n&nbsp\;</div>\n
LOCATION:
UID:e.2161.1413
SEQUENCE:3
DTSTAMP:20260422T071914Z
URL:https://business.cdfms.org/events/details/ribbon-cutting-enterprise-rent-a-car-barnes-crossing-1413
END:VEVENT

END:VCALENDAR
