BEGIN:VCALENDAR
VERSION:2.0
PRODID:-//ChamberMaster//Event Calendar 2.0//EN
METHOD:PUBLISH
X-PUBLISHED-TTL:P3D
REFRESH-INTERVAL:P3D
CALSCALE:GREGORIAN
BEGIN:VEVENT
DTSTART:20150708T150000Z
DTEND:20150708T160000Z
X-MICROSOFT-CDO-ALLDAYEVENT:FALSE
SUMMARY:Ribbon Cutting: Econo Signs
DESCRIPTION:Please join us for the Econo Signs of Tupelo ribbon cutting.
X-ALT-DESC;FMTTYPE=text/html:Please join us for the Econo Signs of Tupelo ribbon cutting.
LOCATION:707 Daybrite Dr. Tupelo\, MS 38804
UID:e.2161.228
SEQUENCE:3
DTSTAMP:20260425T133858Z
URL:https://business.cdfms.org/events/details/ribbon-cutting-econo-signs-07-08-2015-228
END:VEVENT

END:VCALENDAR
