BEGIN:VCALENDAR
VERSION:2.0
PRODID:-//ChamberMaster//Event Calendar 2.0//EN
METHOD:PUBLISH
X-PUBLISHED-TTL:P3D
REFRESH-INTERVAL:P3D
CALSCALE:GREGORIAN
BEGIN:VEVENT
DTSTART:20150317T153000Z
DTEND:20150317T163000Z
X-MICROSOFT-CDO-ALLDAYEVENT:FALSE
SUMMARY:Ribbon Cutting: Driskill's Fish and Steak
DESCRIPTION:Please join us for a ribbon cutting at Driskill's Fish and Steak
X-ALT-DESC;FMTTYPE=text/html:Please join us for a ribbon cutting at Driskill&#39\;s Fish and Steak
LOCATION:2450 Main St. Plantersville\, MS 38862
UID:e.2161.210
SEQUENCE:3
DTSTAMP:20260425T205159Z
URL:https://business.cdfms.org/events/details/ribbon-cutting-driskill-s-fish-and-steak-03-17-2015-210
END:VEVENT

END:VCALENDAR
