BEGIN:VCALENDAR
VERSION:2.0
PRODID:-//ChamberMaster//Event Calendar 2.0//EN
METHOD:PUBLISH
X-PUBLISHED-TTL:P3D
REFRESH-INTERVAL:P3D
CALSCALE:GREGORIAN
BEGIN:VEVENT
DTSTART:20150603T210000Z
DTEND:20150603T220000Z
X-MICROSOFT-CDO-ALLDAYEVENT:FALSE
SUMMARY:Ribbon Cutting: Downtown Wine & Spirits
DESCRIPTION:Please join us for a ribbon cutting at Downtown Wine & Spirits
X-ALT-DESC;FMTTYPE=text/html:Please join us for a ribbon cutting at Downtown Wine &amp\; Spirits
LOCATION:112 W. Main St. Tupelo\, MS 38801
UID:e.2161.226
SEQUENCE:3
DTSTAMP:20260425T154507Z
URL:https://business.cdfms.org/events/details/ribbon-cutting-downtown-wine-spirits-06-03-2015-226
END:VEVENT

END:VCALENDAR
