BEGIN:VCALENDAR
VERSION:2.0
PRODID:-//ChamberMaster//Event Calendar 2.0//EN
METHOD:PUBLISH
X-PUBLISHED-TTL:P3D
REFRESH-INTERVAL:P3D
CALSCALE:GREGORIAN
BEGIN:VEVENT
DTSTART:20160525T150000Z
DTEND:20160525T160000Z
X-MICROSOFT-CDO-ALLDAYEVENT:FALSE
SUMMARY:Ribbon Cutting: Domestic Divas
DESCRIPTION:Please join Domestic Divas as they celebrate their grand opening with a ribbon cutting!\n\n\n\nThanks to our Ribbon Cuttings Presenting Sponsor\n\nMississippi Alarm\, Inc.
X-ALT-DESC;FMTTYPE=text/html:<span style="font-size:14px\;">Please join Domestic Divas as they celebrate their grand opening with a ribbon cutting!</span><br />\n<br />\nThanks to our Ribbon Cuttings Presenting Sponsor<br />\nMississippi Alarm\, Inc.
LOCATION:142 S. Industrial Rd. Tupelo\, MS 38801
UID:e.2161.1309
SEQUENCE:3
DTSTAMP:20260424T195829Z
URL:https://business.cdfms.org/events/details/ribbon-cutting-domestic-divas-05-25-2016-1309
END:VEVENT

END:VCALENDAR
