BEGIN:VCALENDAR
VERSION:2.0
PRODID:-//ChamberMaster//Event Calendar 2.0//EN
METHOD:PUBLISH
X-PUBLISHED-TTL:P3D
REFRESH-INTERVAL:P3D
CALSCALE:GREGORIAN
BEGIN:VEVENT
DTSTART:20160219T173000Z
DTEND:20160219T183000Z
X-MICROSOFT-CDO-ALLDAYEVENT:FALSE
SUMMARY:Ribbon Cutting: Dex Media
DESCRIPTION:Please join us for a ribbon cutting for Dex Media to help celebrate our grand opening!
X-ALT-DESC;FMTTYPE=text/html:Please join us for a ribbon cutting for Dex Media to help celebrate our grand opening!
LOCATION:Renasant Center for IDEAs. Lobby/Room 108 398 E. Main St. RCFI Center Tupelo\, MS 38804
UID:e.2161.1290
SEQUENCE:3
DTSTAMP:20260421T192326Z
URL:https://business.cdfms.org/events/details/ribbon-cutting-dex-media-02-19-2016-1290
END:VEVENT

END:VCALENDAR
