BEGIN:VCALENDAR
VERSION:2.0
PRODID:-//ChamberMaster//Event Calendar 2.0//EN
METHOD:PUBLISH
X-PUBLISHED-TTL:P3D
REFRESH-INTERVAL:P3D
CALSCALE:GREGORIAN
BEGIN:VEVENT
DTSTART:20151104T150000Z
DTEND:20151104T160000Z
X-MICROSOFT-CDO-ALLDAYEVENT:FALSE
SUMMARY:Ribbon Cutting: Dental Solutions
DESCRIPTION:Please join us for a ribbon cutting at Dental Solutions as they celebrate the grand opening of their new location!
X-ALT-DESC;FMTTYPE=text/html:Please join us for a ribbon cutting at Dental Solutions as they celebrate the grand opening of their new location!
LOCATION:499 Gloster Creek Vlg.\, Ste. F8 Tupelo\, MS 38801
UID:e.2161.1268
SEQUENCE:3
DTSTAMP:20260420T033240Z
URL:https://business.cdfms.org/events/details/ribbon-cutting-dental-solutions-11-04-2015-1268
END:VEVENT

END:VCALENDAR
