BEGIN:VCALENDAR
VERSION:2.0
PRODID:-//ChamberMaster//Event Calendar 2.0//EN
METHOD:PUBLISH
X-PUBLISHED-TTL:P3D
REFRESH-INTERVAL:P3D
CALSCALE:GREGORIAN
BEGIN:VEVENT
DTSTART:20150324T150000Z
DTEND:20150324T160000Z
X-MICROSOFT-CDO-ALLDAYEVENT:FALSE
SUMMARY:Ribbon Cutting: Cryocorrect
DESCRIPTION:Please join us for Cryocorrect's grand opening ribbon cutting.
X-ALT-DESC;FMTTYPE=text/html:Please join us for Cryocorrect&#39\;s grand opening ribbon cutting.
LOCATION:398 E. Main St. CDF Parking Lot
UID:e.2161.213
SEQUENCE:3
DTSTAMP:20260425T204335Z
URL:https://business.cdfms.org/events/details/ribbon-cutting-cryocorrect-03-24-2015-213
END:VEVENT

END:VCALENDAR
