BEGIN:VCALENDAR
VERSION:2.0
PRODID:-//ChamberMaster//Event Calendar 2.0//EN
METHOD:PUBLISH
X-PUBLISHED-TTL:P3D
REFRESH-INTERVAL:P3D
CALSCALE:GREGORIAN
BEGIN:VEVENT
DTSTART:20150303T160000Z
DTEND:20150303T170000Z
X-MICROSOFT-CDO-ALLDAYEVENT:FALSE
SUMMARY:Ribbon Cutting: Crye-Leike Realtors
DESCRIPTION:Please join us for a ribbon cutting at Crye-Leike Realtors as they celebrate the post-tornado grand opening of their facility!
X-ALT-DESC;FMTTYPE=text/html:Please join us for a ribbon cutting at Crye-Leike Realtors as they celebrate the post-tornado grand opening of their facility!
LOCATION:1289 N. Gloster St.\, Ste. A Tupelo\, MS 38801
UID:e.2161.202
SEQUENCE:3
DTSTAMP:20260425T205040Z
URL:https://business.cdfms.org/events/details/ribbon-cutting-crye-leike-realtors-03-03-2015-202
END:VEVENT

END:VCALENDAR
