BEGIN:VCALENDAR
VERSION:2.0
PRODID:-//ChamberMaster//Event Calendar 2.0//EN
METHOD:PUBLISH
X-PUBLISHED-TTL:P3D
REFRESH-INTERVAL:P3D
CALSCALE:GREGORIAN
BEGIN:VEVENT
DTSTART:20160802T150000Z
DTEND:20160802T160000Z
X-MICROSOFT-CDO-ALLDAYEVENT:FALSE
SUMMARY:Ribbon Cutting: CrossFit Tupelo
DESCRIPTION:Come join us for a Ribbon Cutting at CrossFit Tupelo's new location presented by Mississippi Alarm.  Stay and meet your trainers and mingle.
X-ALT-DESC;FMTTYPE=text/html:Come join us for a Ribbon Cutting at CrossFit Tupelo&#39\;s new location presented by Mississippi Alarm. &nbsp\;Stay and meet your trainers and mingle.&nbsp\;<br />\n<br />\n&nbsp\;
LOCATION:1715 McCullough Blvd.
UID:e.2161.1362
SEQUENCE:3
DTSTAMP:20260424T141610Z
URL:https://business.cdfms.org/events/details/ribbon-cutting-crossfit-tupelo-08-02-2016-1362
END:VEVENT

END:VCALENDAR
