BEGIN:VCALENDAR
VERSION:2.0
PRODID:-//ChamberMaster//Event Calendar 2.0//EN
METHOD:PUBLISH
X-PUBLISHED-TTL:P3D
REFRESH-INTERVAL:P3D
CALSCALE:GREGORIAN
BEGIN:VEVENT
DTSTART:20160405T163000Z
DTEND:20160405T173000Z
X-MICROSOFT-CDO-ALLDAYEVENT:FALSE
SUMMARY:Ribbon Cutting: Contour Airlines
DESCRIPTION:Please join us as Contour Airlines is celebrating their inaugural flight with a ribbon cutting!
X-ALT-DESC;FMTTYPE=text/html:Please join us as Contour Airlines is celebrating their inaugural flight with a ribbon cutting!
LOCATION:2763 W. Jackson St. Tupelo\, MS 38801
UID:e.2161.1306
SEQUENCE:3
DTSTAMP:20260424T195959Z
URL:https://business.cdfms.org/events/details/ribbon-cutting-contour-airlines-04-05-2016-1306
END:VEVENT

END:VCALENDAR
