BEGIN:VCALENDAR
VERSION:2.0
PRODID:-//ChamberMaster//Event Calendar 2.0//EN
METHOD:PUBLISH
X-PUBLISHED-TTL:P3D
REFRESH-INTERVAL:P3D
CALSCALE:GREGORIAN
BEGIN:VEVENT
DTSTART:20170104T180000Z
DTEND:20170104T183000Z
X-MICROSOFT-CDO-ALLDAYEVENT:FALSE
SUMMARY:Ribbon Cutting: Compassionate Care Clinic
DESCRIPTION:Come join us at Compassionate Care Clinic for a ribbon cutting presented by Mississippi Alarm
X-ALT-DESC;FMTTYPE=text/html:<div style="text-align: center\;">Come join us at Compassionate Care Clinic for a ribbon cutting presented by Mississippi Alarm<br />\n&nbsp\;</div>\n
LOCATION:218 S Thomas St.\, Ste 120
UID:e.2161.1424
SEQUENCE:3
DTSTAMP:20260422T051553Z
URL:https://business.cdfms.org/events/details/ribbon-cutting-compassionate-care-clinic-1424
END:VEVENT

END:VCALENDAR
