BEGIN:VCALENDAR
VERSION:2.0
PRODID:-//ChamberMaster//Event Calendar 2.0//EN
METHOD:PUBLISH
X-PUBLISHED-TTL:P3D
REFRESH-INTERVAL:P3D
CALSCALE:GREGORIAN
BEGIN:VEVENT
DTSTART:20160620T160000Z
DTEND:20160620T170000Z
X-MICROSOFT-CDO-ALLDAYEVENT:FALSE
SUMMARY:Ribbon Cutting: Cheers Wine & Spirits
DESCRIPTION:Please join us for a ribbon cutting to help Cheers Wine & Spirits celebrate their grand opening!\n\n\n\nThanks to our Ribbon Cuttings Presenting Sponsor \n\nMississippi Alarm\, Inc.
X-ALT-DESC;FMTTYPE=text/html:Please join us for a ribbon cutting to help Cheers Wine &amp\; Spirits celebrate their grand opening!<br />\n<br />\n<span style="line-height: 20.8px\;">Thanks to our Ribbon Cuttings Presenting Sponsor&nbsp\;</span><br />\n<span style="line-height: 20.8px\;">Mississippi Alarm\, Inc.</span>
LOCATION:775 E. Main St. Tupelo\, MS 38804
UID:e.2161.1334
SEQUENCE:3
DTSTAMP:20260424T163213Z
URL:https://business.cdfms.org/events/details/ribbon-cutting-cheers-wine-spirits-06-20-2016-1334
END:VEVENT

END:VCALENDAR
