BEGIN:VCALENDAR
VERSION:2.0
PRODID:-//ChamberMaster//Event Calendar 2.0//EN
METHOD:PUBLISH
X-PUBLISHED-TTL:P3D
REFRESH-INTERVAL:P3D
CALSCALE:GREGORIAN
BEGIN:VEVENT
DTSTART:20160517T190000Z
DTEND:20160517T200000Z
X-MICROSOFT-CDO-ALLDAYEVENT:FALSE
SUMMARY:Ribbon Cutting: Carlock Chrysler Dodge Jeep Ram
DESCRIPTION:Please join us for a ribbon cutting celebrating the grand opening of their new showroom and dealership!
X-ALT-DESC;FMTTYPE=text/html:Please join us for a ribbon cutting celebrating the grand opening of their new showroom and dealership!&nbsp\;
LOCATION:966 Cross Creek Dr. Tupelo MS 38804
UID:e.2161.1331
SEQUENCE:3
DTSTAMP:20260424T182438Z
URL:https://business.cdfms.org/events/details/ribbon-cutting-carlock-chrysler-dodge-jeep-ram-05-17-2016-1331
END:VEVENT

END:VCALENDAR
