BEGIN:VCALENDAR
VERSION:2.0
PRODID:-//ChamberMaster//Event Calendar 2.0//EN
METHOD:PUBLISH
X-PUBLISHED-TTL:P3D
REFRESH-INTERVAL:P3D
CALSCALE:GREGORIAN
BEGIN:VEVENT
DTSTART:20160825T140000Z
DTEND:20160825T143000Z
X-MICROSOFT-CDO-ALLDAYEVENT:FALSE
SUMMARY:Ribbon Cutting: Burger King
DESCRIPTION:Come join us at Burger King on Eason Blvd. for a Ribbon Cutting presented by Mississippi Alarm
X-ALT-DESC;FMTTYPE=text/html:<div style="text-align: center\;"><br />\nCome join us at Burger King on Eason Blvd. for a Ribbon Cutting presented by Mississippi Alarm</div>\n\n<div style="text-align: center\;">&nbsp\;</div>\n
LOCATION:3820 S Eason Blvd.
UID:e.2161.1380
SEQUENCE:3
DTSTAMP:20260419T210727Z
URL:https://business.cdfms.org/events/details/ribbon-cutting-burger-king-08-25-2016-1380
END:VEVENT

END:VCALENDAR
