BEGIN:VCALENDAR
VERSION:2.0
PRODID:-//ChamberMaster//Event Calendar 2.0//EN
METHOD:PUBLISH
X-PUBLISHED-TTL:P3D
REFRESH-INTERVAL:P3D
CALSCALE:GREGORIAN
BEGIN:VEVENT
DTSTART:20160802T190000Z
DTEND:20160802T200000Z
X-MICROSOFT-CDO-ALLDAYEVENT:FALSE
SUMMARY:Ribbon Cutting: Bim Bam Burgers & Wings of Tupelo
DESCRIPTION:Please join us for a ribbon cutting at Bim Bam Burgers & Wings of Tupelo presented by Mississippi Alarms
X-ALT-DESC;FMTTYPE=text/html:Please join us for a ribbon cutting at&nbsp\;Bim Bam Burgers &amp\; Wings of Tupelo presented by Mississippi Alarms
LOCATION:312 S. Gloster St. Tupelo\, MS 38804
UID:e.2161.1361
SEQUENCE:3
DTSTAMP:20260424T142224Z
URL:https://business.cdfms.org/events/details/ribbon-cutting-bim-bam-burgers-wings-of-tupelo-08-02-2016-1361
END:VEVENT

END:VCALENDAR
