BEGIN:VCALENDAR
VERSION:2.0
PRODID:-//ChamberMaster//Event Calendar 2.0//EN
METHOD:PUBLISH
X-PUBLISHED-TTL:P3D
REFRESH-INTERVAL:P3D
CALSCALE:GREGORIAN
BEGIN:VEVENT
DTSTART:20160321T190000Z
DTEND:20160321T200000Z
X-MICROSOFT-CDO-ALLDAYEVENT:FALSE
SUMMARY:Ribbon Cutting:Bell & Associates
DESCRIPTION:Please join us for a ribbon cutting as we celebrate Bell & Associates Consulting Firm's new location
X-ALT-DESC;FMTTYPE=text/html:Please join us for a ribbon cutting as we celebrate Bell &amp\; Associates Consulting Firm&#39\;s new location
LOCATION:144 S. Thomas St.\, Ste. 103-1 Tupelo\, MS 38801
UID:e.2161.1299
SEQUENCE:3
DTSTAMP:20260424T213715Z
URL:https://business.cdfms.org/events/details/ribbon-cutting-bell-associates-03-21-2016-1299
END:VEVENT

END:VCALENDAR
