BEGIN:VCALENDAR
VERSION:2.0
PRODID:-//ChamberMaster//Event Calendar 2.0//EN
METHOD:PUBLISH
X-PUBLISHED-TTL:P3D
REFRESH-INTERVAL:P3D
CALSCALE:GREGORIAN
BEGIN:VEVENT
DTSTART:20150610T151500Z
DTEND:20150610T161500Z
X-MICROSOFT-CDO-ALLDAYEVENT:FALSE
SUMMARY:Ribbon Cutting: Belk's Michael Kors Shop
DESCRIPTION:Please join us for a ribbon cutting at Belk's Michael Kors Shop
X-ALT-DESC;FMTTYPE=text/html:Please join us for a ribbon cutting at Belk&#39\;s Michael Kors Shop
LOCATION:Mall at Barnes Crossing (Handbag Section)
UID:e.2161.225
SEQUENCE:3
DTSTAMP:20260425T154723Z
URL:https://business.cdfms.org/events/details/ribbon-cutting-belk-s-michael-kors-shop-06-10-2015-225
END:VEVENT

END:VCALENDAR
