BEGIN:VCALENDAR
VERSION:2.0
PRODID:-//ChamberMaster//Event Calendar 2.0//EN
METHOD:PUBLISH
X-PUBLISHED-TTL:P3D
REFRESH-INTERVAL:P3D
CALSCALE:GREGORIAN
BEGIN:VEVENT
DTSTART:20161027T150000Z
DTEND:20161027T153000Z
X-MICROSOFT-CDO-ALLDAYEVENT:FALSE
SUMMARY:Ribbon Cutting: Barnes Crossing Volkswagon
DESCRIPTION:Join us for at Barnes Crossing Volkswagon for a ribbon cutting presented by Mississippi Alarm
X-ALT-DESC;FMTTYPE=text/html:<div style="text-align: center\;">Join us for at Barnes Crossing Volkswagon&nbsp\;for a ribbon cutting presented by Mississippi Alarm<br />\n&nbsp\;</div>\n
LOCATION:3837 N Gloster St.
UID:e.2161.1414
SEQUENCE:3
DTSTAMP:20260422T095200Z
URL:https://business.cdfms.org/events/details/ribbon-cutting-barnes-crossing-volkswagon-1414
END:VEVENT

END:VCALENDAR
