BEGIN:VCALENDAR
VERSION:2.0
PRODID:-//ChamberMaster//Event Calendar 2.0//EN
METHOD:PUBLISH
X-PUBLISHED-TTL:P3D
REFRESH-INTERVAL:P3D
CALSCALE:GREGORIAN
BEGIN:VEVENT
DTSTART:20170901T150000Z
DTEND:20170901T153000Z
X-MICROSOFT-CDO-ALLDAYEVENT:FALSE
SUMMARY:Ribbon Cutting: Barnes Crossing Mitsubishi
DESCRIPTION:Come join us for a ribbon cutting presented by Mississippi Alarm
X-ALT-DESC;FMTTYPE=text/html:<div style="text-align: center\;">Come join us for a ribbon cutting presented by Mississippi Alarm&nbsp\;</div>\n
LOCATION:2819 Hwy 145 Saltillo\, MS
UID:e.2161.1500
SEQUENCE:3
DTSTAMP:20260421T124222Z
URL:https://business.cdfms.org/events/details/ribbon-cutting-barnes-crossing-mitsubishi-1500
END:VEVENT

END:VCALENDAR
