BEGIN:VCALENDAR
VERSION:2.0
PRODID:-//ChamberMaster//Event Calendar 2.0//EN
METHOD:PUBLISH
X-PUBLISHED-TTL:P3D
REFRESH-INTERVAL:P3D
CALSCALE:GREGORIAN
BEGIN:VEVENT
DTSTART:20161031T210000Z
DTEND:20161031T213000Z
X-MICROSOFT-CDO-ALLDAYEVENT:FALSE
SUMMARY:Ribbon Cutting: Auntie Ann's and Cinnabon Double Grand Opening
DESCRIPTION:Join us at the Mall at Barnes Crossing for Auntie Ann's and Cinnabon's Ribbon Cutting presented by Mississippi Alarm
X-ALT-DESC;FMTTYPE=text/html:<div style="text-align: center\;">Join us&nbsp\;at the Mall at Barnes Crossing for Auntie Ann&#39\;s and Cinnabon&#39\;s Ribbon Cutting presented by Mississippi Alarm</div>\n
LOCATION:1001 Barnes Crossing Rd.
UID:e.2161.1409
SEQUENCE:3
DTSTAMP:20260424T090004Z
URL:https://business.cdfms.org/events/details/ribbon-cutting-auntie-ann-s-and-cinnabon-double-grand-opening-1409
END:VEVENT

END:VCALENDAR
