BEGIN:VCALENDAR
VERSION:2.0
PRODID:-//ChamberMaster//Event Calendar 2.0//EN
METHOD:PUBLISH
X-PUBLISHED-TTL:P3D
REFRESH-INTERVAL:P3D
CALSCALE:GREGORIAN
BEGIN:VEVENT
DTSTART:20160826T200000Z
DTEND:20160826T203000Z
X-MICROSOFT-CDO-ALLDAYEVENT:FALSE
SUMMARY:Ribbon Cutting: Anthony's Neapolitan Wood Fired Pizza
DESCRIPTION:Come join us for a Ribbon Cutting for Anthony's Neapolitan Wood Fired Pizza presented by Mississippi Alarm
X-ALT-DESC;FMTTYPE=text/html:<div style="text-align: center\;"><br />\nCome join us for a Ribbon Cutting for Anthony&#39\;s Neapolitan Wood Fired Pizza presented by Mississippi Alarm</div>\n
LOCATION:206 Troy Street
UID:e.2161.1375
SEQUENCE:3
DTSTAMP:20260424T141456Z
URL:https://business.cdfms.org/events/details/ribbon-cutting-anthony-s-neapolitan-wood-fired-pizza-08-26-2016-1375
END:VEVENT

END:VCALENDAR
