BEGIN:VCALENDAR
VERSION:2.0
PRODID:-//ChamberMaster//Event Calendar 2.0//EN
METHOD:PUBLISH
X-PUBLISHED-TTL:P3D
REFRESH-INTERVAL:P3D
CALSCALE:GREGORIAN
BEGIN:VEVENT
DTSTART:20170824T200000Z
DTEND:20170824T201500Z
X-MICROSOFT-CDO-ALLDAYEVENT:FALSE
SUMMARY:Ribbon Cutting: Animal Care Center of Tupelo
DESCRIPTION:Come join us as we celebrate Animal Care Center's remodel and new additions
X-ALT-DESC;FMTTYPE=text/html:<div style="text-align: center\;">Come join us as we celebrate Animal Care Center&#39\;s remodel and new additions&nbsp\;</div>\n
LOCATION:5362 Cliff Gookin Blvd.
UID:e.2161.1488
SEQUENCE:3
DTSTAMP:20260421T162031Z
URL:https://business.cdfms.org/events/details/ribbon-cutting-animal-care-center-of-tupelo-1488
END:VEVENT

END:VCALENDAR
