BEGIN:VCALENDAR
VERSION:2.0
PRODID:-//ChamberMaster//Event Calendar 2.0//EN
METHOD:PUBLISH
X-PUBLISHED-TTL:P3D
REFRESH-INTERVAL:P3D
CALSCALE:GREGORIAN
BEGIN:VEVENT
DTSTART:20161024T153000Z
DTEND:20161024T160000Z
X-MICROSOFT-CDO-ALLDAYEVENT:FALSE
SUMMARY:Ribbon Cutting: American Cancer Society
DESCRIPTION:Come join us at The American Cancer Society for a ribbon cutting presented by Mississippi Alarm
X-ALT-DESC;FMTTYPE=text/html:<div style="text-align: center\;">Come join us at The American Cancer Society for a ribbon cutting presented by Mississippi Alarm</div>\n\n<div style="text-align: center\;">&nbsp\;</div>\n
LOCATION:607 W Main St.\, Ste. C
UID:e.2161.1408
SEQUENCE:3
DTSTAMP:20260424T090638Z
URL:https://business.cdfms.org/events/details/ribbon-cutting-american-cancer-society-1408
END:VEVENT

END:VCALENDAR
