BEGIN:VCALENDAR
VERSION:2.0
PRODID:-//ChamberMaster//Event Calendar 2.0//EN
METHOD:PUBLISH
X-PUBLISHED-TTL:P3D
REFRESH-INTERVAL:P3D
CALSCALE:GREGORIAN
BEGIN:VEVENT
DTSTART:20150827T210000Z
DTEND:20150827T220000Z
X-MICROSOFT-CDO-ALLDAYEVENT:FALSE
SUMMARY:Ribbon Cutting: Amaza Vapors
DESCRIPTION:Please join us as we celebrate Amaza Vapors new location in Saltillo
X-ALT-DESC;FMTTYPE=text/html:Please join us as we celebrate Amaza Vapors new location in Saltillo
LOCATION:113 Town Creek Dr. Saltillo\, MS 38866
UID:e.2161.238
SEQUENCE:3
DTSTAMP:20260425T121023Z
URL:https://business.cdfms.org/events/details/ribbon-cutting-amaza-vapors-08-27-2015-238
END:VEVENT

END:VCALENDAR
