BEGIN:VCALENDAR
VERSION:2.0
PRODID:-//ChamberMaster//Event Calendar 2.0//EN
METHOD:PUBLISH
X-PUBLISHED-TTL:P3D
REFRESH-INTERVAL:P3D
CALSCALE:GREGORIAN
BEGIN:VEVENT
DTSTART:20160607T150000Z
DTEND:20160607T160000Z
X-MICROSOFT-CDO-ALLDAYEVENT:FALSE
SUMMARY:Ribbon Cutting: Air Force Recruiting Office
DESCRIPTION:Let's Celebrate! The United States Air Force Recruiting Office is celebrating the grand re-opening of their Tupelo location with a ribbon cutting.\n\n\n\nThanks to our Ribbon Cuttings Presenting Sponsor \n\nMississippi Alarm\, Inc.
X-ALT-DESC;FMTTYPE=text/html:Let&#39\;s Celebrate! The United States Air Force Recruiting Office is celebrating the grand re-opening of their Tupelo location with a ribbon cutting.<br />\n<br />\n<span style="line-height: 20.8px\;">Thanks to our Ribbon Cuttings Presenting Sponsor&nbsp\;</span><br />\n<span style="line-height: 20.8px\;">Mississippi Alarm\, Inc.</span>
LOCATION:3885 N. Gloster St.\, Ste. C Tupelo\, MS 38804
UID:e.2161.1329
SEQUENCE:3
DTSTAMP:20260424T161804Z
URL:https://business.cdfms.org/events/details/ribbon-cutting-air-force-recruiting-office-06-07-2016-1329
END:VEVENT

END:VCALENDAR
