BEGIN:VCALENDAR
VERSION:2.0
PRODID:-//ChamberMaster//Event Calendar 2.0//EN
METHOD:PUBLISH
X-PUBLISHED-TTL:P3D
REFRESH-INTERVAL:P3D
CALSCALE:GREGORIAN
BEGIN:VEVENT
DTSTART:20160811T160000Z
DTEND:20160811T170000Z
X-MICROSOFT-CDO-ALLDAYEVENT:FALSE
SUMMARY:Ribbon Cutting: ACCESS Family Health Services\, Inc.
DESCRIPTION:Come join us Thursday August 11th @ 11 a.m for a Ribbon Cutting presented by Mississippi Alarm\n\n499 Gloster Creek Village\n\nSuite D1
X-ALT-DESC;FMTTYPE=text/html:<div style="text-align: center\;">Come join us Thursday August 11th&nbsp\;@ 11 a.m for a Ribbon Cutting presented by Mississippi Alarm<br />\n499 Gloster Creek Village<br />\nSuite D1<br />\n&nbsp\;</div>\n
LOCATION:
UID:e.2161.1365
SEQUENCE:3
DTSTAMP:20260424T124051Z
URL:https://business.cdfms.org/events/details/ribbon-cutting-access-family-health-services-inc-08-11-2016-1365
END:VEVENT

END:VCALENDAR
