BEGIN:VCALENDAR
VERSION:2.0
PRODID:-//ChamberMaster//Event Calendar 2.0//EN
METHOD:PUBLISH
X-PUBLISHED-TTL:P3D
REFRESH-INTERVAL:P3D
CALSCALE:GREGORIAN
BEGIN:VEVENT
DTSTART:20150527T140000Z
DTEND:20150527T150000Z
X-MICROSOFT-CDO-ALLDAYEVENT:FALSE
SUMMARY:Ribbon Cutting: AC's Coffee
DESCRIPTION:Please join us for a ribbon cutting at AC's Coffee
X-ALT-DESC;FMTTYPE=text/html:Please join us for a ribbon cutting at AC&#39\;s Coffee
LOCATION:499 Gloster Creek Village\, Ste. I-12 Centre Court at Midtown Pointe
UID:e.2161.222
SEQUENCE:3
DTSTAMP:20260425T173422Z
URL:https://business.cdfms.org/events/details/ribbon-cutting-ac-s-coffee-05-27-2015-222
END:VEVENT

END:VCALENDAR
