BEGIN:VCALENDAR
VERSION:2.0
PRODID:-//ChamberMaster//Event Calendar 2.0//EN
METHOD:PUBLISH
X-PUBLISHED-TTL:P3D
REFRESH-INTERVAL:P3D
CALSCALE:GREGORIAN
BEGIN:VEVENT
DTSTART:20150331T210000Z
DTEND:20150331T220000Z
X-MICROSOFT-CDO-ALLDAYEVENT:FALSE
SUMMARY:New Member Forum
DESCRIPTION:Join us for an afternoon forum to learn about the Community Development Foundation. This "CDF 101" course provides the tools needed to kick-start your involvement in the CDF and business community. New CDF members and new employees of CDF members are invited to attend. Bring your business cards\, and come network with other CDF members.
X-ALT-DESC;FMTTYPE=text/html:<p class="p1">Join us for an afternoon forum to learn about the Community Development Foundation. This &quot\;CDF 101&quot\; course provides the tools needed to kick-start your involvement in the CDF and business community. New CDF members and new employees of CDF members are invited to attend. Bring your business cards\, and come network with other CDF members.</p>\n
LOCATION:398 E Main St.\, CDF Center Tupelo\, MS 38804
UID:e.2161.199
SEQUENCE:3
DTSTAMP:20260425T204829Z
URL:https://business.cdfms.org/events/details/new-member-forum-03-31-2015-199
END:VEVENT

END:VCALENDAR
