BEGIN:VCALENDAR
VERSION:2.0
PRODID:-//ChamberMaster//Event Calendar 2.0//EN
METHOD:PUBLISH
X-PUBLISHED-TTL:P3D
REFRESH-INTERVAL:P3D
CALSCALE:GREGORIAN
BEGIN:VEVENT
DTSTART:20150218T174500Z
DTEND:20150218T190000Z
X-MICROSOFT-CDO-ALLDAYEVENT:FALSE
SUMMARY:Business Boxed Lunch and Learn: Microsoft Excel - Examining the Possibilities
DESCRIPTION:A look at the capabilities of this popular and powerful software package. A seasoned expert and trainer will demonstrate tips and tricks for every level of Excel user.
X-ALT-DESC;FMTTYPE=text/html:A look at the capabilities of this popular and powerful software package. A seasoned expert and trainer will demonstrate tips and tricks for every level of Excel user.
LOCATION:CDF Boardroom 398 E Main St.\, CDF Center Tupelo\, MS 38804
UID:e.2161.153
SEQUENCE:3
DTSTAMP:20260425T221333Z
URL:https://business.cdfms.org/events/details/business-boxed-lunch-and-learn-microsoft-excel-examining-the-possibilities-02-18-2015-153
END:VEVENT

END:VCALENDAR
